BEGIN:VCALENDAR
VERSION:2.0
PRODID:-//Caelo Yoga Studio Ramey - ECPv6.0.10//NONSGML v1.0//EN
CALSCALE:GREGORIAN
METHOD:PUBLISH
X-ORIGINAL-URL:https://www.caeloyoga.com
X-WR-CALDESC:Events for Caelo Yoga Studio Ramey
REFRESH-INTERVAL;VALUE=DURATION:PT1H
X-Robots-Tag:noindex
X-PUBLISHED-TTL:PT1H
BEGIN:VTIMEZONE
TZID:UTC
BEGIN:STANDARD
TZOFFSETFROM:+0000
TZOFFSETTO:+0000
TZNAME:UTC
DTSTART:20240101T000000
END:STANDARD
END:VTIMEZONE
BEGIN:VEVENT
DTSTART;TZID=UTC:20240505T160000
DTEND;TZID=UTC:20240511T110000
DTSTAMP:20260423T053958
CREATED:20230202T095633Z
LAST-MODIFIED:20240308T113936Z
UID:5138-1714924800-1715425200@www.caeloyoga.com
SUMMARY:BACK TO JOY with Jennifer  - Retreat 05 - 11 MAY 2024
DESCRIPTION:[vc_row][vc_column][vc_column_text] \nBACK TO JOY – Retreat 05 – 11 May. Yoga & Nature Immersion Retreat with JENNIFER\n[/vc_column_text][vc_column_text]Surrounded by the aura of these magical mountains\, that surround the valley of Sóller\, deeply immersed in nature\, beauty & tranquility\, practice & community\, come and elevate your vibration\, clear your mind\, restore your vitality and reconnect yourself back to the infinite source of light & joy within you. \nWhether you are looking to restore your well-being and vitality at the deepest level\, to make a change in your life\, to find greater peace and purpose\, or simply to disconnect to reconnect – everything you need will be on hand in Sóller ! \nDiscover the full details here : https://www.essenceyogaretreats.com/project/back-to-joy5-11-may-2024/[/vc_column_text][vc_tta_tabs style=”modern” shape=”square” color=”black” active_section=”1″][vc_tta_section title=”HIGHLIGHTS” tab_id=”1675254620236-2505e0d2-c12a”][vc_column_text]Spring: 6 nights / 7 days  \n— Twice Daily Yoga & Mediation – Vinyasa – Jivamukti – Yin – Sound Healing – Mantra & Yoga Philosophy Exploration \n— Boat Excursion \n— Guided Hike & Seaside Meditation \n– Some of the most beautiful beaches on the island in close proximity \n— A FREE afternoon of Integration & Exploration \n— Delicious and Revitalizing\, High-vibe beautifully crafted electic plant-based cuisine with magical flavors prepared by international chef Maya Clark[/vc_column_text][/vc_tta_section][vc_tta_section title=”Bonus excursion” tab_id=”1675254620250-8772c472-11d1″][vc_column_text]On one of the afternoons\, we will either:\n(a) embark on a half-day boat trip to visit the beautiful calas of the North West coast\, swim in the crystal-clear water\, and immerse ourselves in the gorgeous Mediterranean nature and scenery\,\nor (b) experience the breathtaking spectacle of the sun slowly descending into the horizon while enjoying drinks and refreshments over the course of a two-hour sunset cruise.\n[/vc_column_text][/vc_tta_section][/vc_tta_tabs][/vc_column][/vc_row][vc_row][vc_column][vc_gallery type=”image_grid” images=”5256\,5235\,5161\,5253\,5260\,5259\,5255\,5258″ img_size=”246×160″ onclick=”kalium_lightbox”][/vc_column][/vc_row][vc_row full_width=”stretch_row”][vc_column][vc_separator color=”black” align=”align_left” el_width=”10″ css_animation=”fadeInUp” css=”.vc_custom_1675255902786{padding-top: 10% !important;}”][vc_column_text] \nTarifs :\nNOUS CONTACTER \nInformation & inscriptions : info@caeloyoga.com[/vc_column_text][/vc_column][/vc_row]
URL:https://www.caeloyoga.com/event/back-to-joy-with-jennifer-retreat-15-21-may-2023/
LOCATION:Mallorca\, Palma de Mallorca\, Mallorca\, Islas Baleares\, 07100\, Espagne
CATEGORIES:Events,Retreats
ATTACH;FMTTYPE=image/jpeg:https://www.caeloyoga.com/wp-content/uploads/2023/02/backtojoy_jennifer_assise-1.jpg
ORGANIZER;CN="Jennifer%20Ruiz":MAILTO:info@caeloyoga.com
END:VEVENT
END:VCALENDAR