BEGIN:VCALENDAR
VERSION:2.0
PRODID:-//Caelo Yoga Studio Ramey - ECPv6.0.10//NONSGML v1.0//EN
CALSCALE:GREGORIAN
METHOD:PUBLISH
X-ORIGINAL-URL:https://www.caeloyoga.com
X-WR-CALDESC:Events for Caelo Yoga Studio Ramey
REFRESH-INTERVAL;VALUE=DURATION:PT1H
X-Robots-Tag:noindex
X-PUBLISHED-TTL:PT1H
BEGIN:VTIMEZONE
TZID:UTC
BEGIN:STANDARD
TZOFFSETFROM:+0000
TZOFFSETTO:+0000
TZNAME:UTC
DTSTART:20240101T000000
END:STANDARD
END:VTIMEZONE
BEGIN:VEVENT
DTSTART;TZID=UTC:20240330T090000
DTEND;TZID=UTC:20240331T180000
DTSTAMP:20260423T092604
CREATED:20231228T172547Z
LAST-MODIFIED:20231228T172641Z
UID:5617-1711789200-1711908000@www.caeloyoga.com
SUMMARY:Voix et Chants Médecine - Rythme et Tambour avec Natalia Magliano
DESCRIPTION:«VOIX et chants MÉDECINE – RYTHME et TAMBOUR»  avec Natalia Magliano \nUn rencontre de week-end unique pour travailler dans un ensemble vocal féminin LA VOIX MÉDECINE\, les chants et le rythme dans le corps\, le tambour pour trouver le pouvoir intérieur et s’approprier de cet source d’énergie qui nos accompagne depuis la naissance\, à partir du battement du cœur et depuis nos premiers ages dans la marche. \nSi nous marchons\, si nous parlons\, pour quoi pas retrouver le sens du rythme depuis sa propre expérience? Tout est mémoire dans la peau. Cet stage appartient au programme d’accompagnement pour femmes INFINITA VOIX et Créativité \, Formule hybride en ligne et en présentiel sur Paris et Lyon. \nCet stage peux être prisse de façon isolé ou comme partie de tout le programme. Le focus du travail se poserait sur le dialogue avec les instruments rythmiques. Pour les femmes qui souhaitent avoir un espace pour laisser sortir ce qu’ils sont a qu’elles ont à dire et à chanter. \nUne proposition pour apprendre à être l’actrice de sa voix-voie\, s’autoriser créatrice de beauté et se permettre de caresser son espace symbolique à travers la voix et le geste musical. Une dynamique unique dans laquelle l’apprentissage et le plaisir vont ensemble. \nContacte: Natalia FloraMata voixducorps.com \nchantscirculaires@gmail.com \nWhatsApp: 0652107771
URL:https://www.caeloyoga.com/event/voix-et-chants-medecine-rythme-et-tambour-avec-natalia-magliano/
CATEGORIES:Events,Studio Ramey
ATTACH;FMTTYPE=image/jpeg:https://www.caeloyoga.com/wp-content/uploads/2023/12/Voix-medecine.jpg
END:VEVENT
END:VCALENDAR